BEGIN:VCALENDAR
VERSION:2.0
PRODID:-//Tukios.com/
BEGIN:VEVENT
UID:753f9050-6b25-49b9-a251-f86d39d78175@www.peacockfh.com
DTSTAMP:20260423T014612Z
DTSTART:20260502T160000Z
DTEND:20260502T170000Z
SUMMARY:Graveside Service
DESCRIPTION:
URL:https://www.peacockfh.com/obituaries/bessie-lantz
LOCATION: 32723 County Rd 33  Cheraw CO 81030
GEO:38.5422605;-102.9148198
END:VEVENT
END:VCALENDAR