BEGIN:VCALENDAR
VERSION:2.0
PRODID:-//Tukios.com/
BEGIN:VEVENT
UID:5645ce73-a066-41a7-a1ff-fa85ac45fd93@www.peacockfh.com
DTSTAMP:20260420T085517Z
DTSTART:20260420T160000Z
DTEND:20260420T170000Z
SUMMARY:Mass of Christian Burial
DESCRIPTION:
URL:https://www.peacockfh.com/obituaries/christopher-chavez
LOCATION: 518 West 3rd Street  La Junta CO 81050
GEO:37.9857659;-103.5504481
END:VEVENT
END:VCALENDAR