BEGIN:VCALENDAR
VERSION:2.0
PRODID:-//Tukios.com/
BEGIN:VEVENT
UID:61751a03-836c-44b4-9572-e6b01b720c95@www.peacockfh.com
DTSTAMP:20260420T090636Z
DTSTART:20260420T170000Z
DTEND:20260420T180000Z
SUMMARY:Interment
DESCRIPTION:
URL:https://www.peacockfh.com/obituaries/christopher-chavez
LOCATION: 402 Potter Drive  La Junta CO 81050
GEO:37.9857866;-103.5644066
END:VEVENT
END:VCALENDAR