BEGIN:VCALENDAR
VERSION:2.0
PRODID:-//Tukios.com/
BEGIN:VEVENT
UID:6da8cbbc-83ed-46d8-9ad6-13ff035a47ae@www.peacockfh.com
DTSTAMP:20260424T200827Z
DTSTART:20260427T200000Z
DTEND:20260427T220000Z
SUMMARY:Visitation
DESCRIPTION:
URL:https://www.peacockfh.com/obituaries/mary-dee-de-leon
LOCATION: 401 Raton Avenue  La Junta CO 81050
GEO:37.984794;-103.5413441
END:VEVENT
END:VCALENDAR