BEGIN:VCALENDAR
VERSION:2.0
PRODID:-//Tukios.com/
BEGIN:VEVENT
UID:2bd9bdd4-dbe4-45ff-a3d4-167036b92d69@www.peacockfh.com
DTSTAMP:20260424T201529Z
DTSTART:20260428T160000Z
DTEND:20260428T170000Z
SUMMARY:Celebration of Life
DESCRIPTION:
URL:https://www.peacockfh.com/obituaries/mary-dee-de-leon
LOCATION: 401 Raton Avenue  La Junta CO 81050
GEO:37.984794;-103.5413441
END:VEVENT
END:VCALENDAR