BEGIN:VCALENDAR
VERSION:2.0
PRODID:-//Tukios.com/
BEGIN:VEVENT
UID:2579c50c-c69c-4443-a9e6-d15f575a2369@www.peacockfh.com
DTSTAMP:20260422T005838Z
DTSTART:20260509T160000Z
DTEND:20260509T170000Z
SUMMARY:Graveside Service
DESCRIPTION:
URL:https://www.peacockfh.com/obituaries/mary-karney
LOCATION: 402 Potter Drive  La Junta CO 81050
GEO:37.9857866;-103.5644066
END:VEVENT
END:VCALENDAR